BEGIN:VCALENDAR
VERSION:2.0
PRODID:-//Tukios.com/
BEGIN:VEVENT
UID:7f01ffbb-85cc-4978-b50b-13f696903707@www.halbritterwickens.com
DTSTAMP:20260425T012032Z
DTSTART:20260430T200000Z
DTEND:20260430T230000Z
SUMMARY:Visitation
DESCRIPTION:
URL:https://www.halbritterwickens.com/obituaries/h-kolloff
LOCATION:Halbritter Wickens Funeral Services 615 E Main St  Niles MI 
	49120
GEO:41.8298055;-86.2518538
END:VEVENT
END:VCALENDAR