BEGIN:VCALENDAR
VERSION:2.0
PRODID:-//Tukios.com/
BEGIN:VEVENT
UID:1153ff35-88af-4e2c-b78c-00d0c62bc04b@www.halbritterwickens.com
DTSTAMP:20260425T012044Z
DTSTART:20260501T150000Z
DTEND:20260501T160000Z
SUMMARY:Funeral Service
DESCRIPTION:
URL:https://www.halbritterwickens.com/obituaries/h-kolloff
LOCATION:Halbritter Wickens Funeral Services 615 E Main St  Niles MI 
	49120
GEO:41.8298055;-86.2518538
END:VEVENT
END:VCALENDAR